BEGIN:VCALENDAR
VERSION:2.0
PRODID:-//ChamberMaster//Event Calendar 2.0//EN
METHOD:PUBLISH
X-PUBLISHED-TTL:P3D
REFRESH-INTERVAL:P3D
CALSCALE:GREGORIAN
BEGIN:VEVENT
DTSTART:20250617T143000Z
DTEND:20250617T153000Z
X-MICROSOFT-CDO-ALLDAYEVENT:FALSE
SUMMARY:Didgeridoo Down Under (Bradshaw Library)
DESCRIPTION:Join us on an artful adventure to the Land Down Under\, where we'll hear colorful sounds from the didgeridoo\, learn about fascinating Aboriginal artwork\, and explore the landscape of the Outback & the Great Barrier Reef!
X-ALT-DESC;FMTTYPE=text/html:Join us on an artful adventure to the Land Down Under\, where we&#39\;ll hear colorful sounds from the didgeridoo\, learn about fascinating Aboriginal artwork\, and explore the landscape of the Outback &amp\; the Great Barrier Reef!
LOCATION:H. Grady Bradshaw Library 3419 20th Avenue Valley\, AL 36854
UID:e.754.8531
SEQUENCE:3
DTSTAMP:20260421T085032Z
URL:http://business.greatervalleyarea.com/events/details/didgeridoo-down-under-bradshaw-library-8531
END:VEVENT

END:VCALENDAR
